Workbook

Sheet 入力シート
A1: 入力 シート
A2: 種目 | B2: 支部名 | C2: 男・女 | D2: 団体・個人 | E2: 監督氏名 | F2: 連絡先 | H2: 選手氏名 | I2: ふりがな | J2: 学年 | K2: 備考 | L2: 個人情報の記載
A3: 体操競技 | G3: 1
B4: 申込日 | E4: ↑ | F4: ↑ | G4: 2
E5: 直接入力 | F5: 直接入力 | G5: 3
A6: 登録人数 | B6: ↑ | G6: 4
A7: =COUNTA(H3:H10) -> 0 | B7: 直接入力（例：5月1日） | G7: 5
A8: 参加料 | G8: 6
A9: =A7*1500 -> 0 | B9: 自動計算
A10: 学校所在地 | F10: ← 直接入力
A11: 学校TEL | F11: ← 直接入力 | H11: ↑ | I11: ↑
A12: 学校FAX | F12: ← 直接入力 | H12: 直接入力 | I12: 直接入力
A13: 学校名ふりがな | F13: ← 直接入力 | J13: 生徒から提出されたプリントの該当箇所を確認。個人情報の記載の承諾について、プルダウンリストからいずれかを選択してください。
A14: 学校名 | F14: ← 直接入力
A15: 校長氏名 | F15: ← 直接入力
A16: ※県大会の競技の結果、 東海大会の出場資格を得た場合、 | G16: コーチ申請をする場合は以下の項目も入力してください
G17: コーチ名 | M17: ← 直接入力
G18: 性別
G19: 年齢 | M19: ← 直接入力
G20: 学校とのかかわり | M20: ← 直接入力
G21: コーチを引率者及び監督者に承認

Sheet 参加申込書(印刷)
E1: =入力シート!$B$3 -> 0 | F1: 支部
A3: 第80回 愛知県中学校総合体育大会 参加申込書並びに参加料納入書
A4: 競 技 | B4: 体操競技 | C4: =入力シート!$C$3 -> 0 | D4: の部 | E4: =入力シート!$D$3 -> 0
B5: 監督氏名( | C5: =入力シート!$E$3 -> 0 | F5: )
B6: 連絡先( | C6: =入力シート!$F$3 -> 0 | F6: )
A7: 選手氏名 | C7: ふりがな | D7: 学年 | E7: 備考 | F7: 個人情報の 記載について
A8: =入力シート!H3 -> 0 | C8: =入力シート!I3 -> 0 | D8: =入力シート!J3 -> 0 | E8: =入力シート!K3 -> 0 | F8: =入力シート!L3 -> 0
A9: =入力シート!H4 -> 0 | C9: =入力シート!I4 -> 0 | D9: =入力シート!J4 -> 0 | E9: =入力シート!K4 -> 0 | F9: =入力シート!L4 -> 0
A10: =入力シート!H5 -> 0 | C10: =入力シート!I5 -> 0 | D10: =入力シート!J5 -> 0 | E10: =入力シート!K5 -> 0 | F10: =入力シート!L5 -> 0
A11: =入力シート!H6 -> 0 | C11: =入力シート!I6 -> 0 | D11: =入力シート!J6 -> 0 | E11: =入力シート!K6 -> 0 | F11: =入力シート!L6 -> 0
A12: =入力シート!H7 -> 0 | C12: =入力シート!I7 -> 0 | D12: =入力シート!J7 -> 0 | E12: =入力シート!K7 -> 0 | F12: =入力シート!L7 -> 0
A13: =入力シート!H8 -> 0 | C13: =入力シート!I8 -> 0 | D13: =入力シート!J8 -> 0 | E13: =入力シート!K8 -> 0 | F13: =入力シート!L8 -> 0
A14: =入力シート!H9 -> 0 | C14: =入力シート!I9 -> 0 | D14: =入力シート!J9 -> 0 | E14: =入力シート!K9 -> 0 | F14: =入力シート!L9 -> 0
A15: =入力シート!H10 -> 0 | C15: =入力シート!I10 -> 0 | D15: =入力シート!J10 -> 0 | E15: =入力シート!K10 -> 0 | F15: =入力シート!L10 -> 0
A16: ※ 体操競技の団体出場校の補欠選手は、備考欄に「補欠」と記入する。
A17: ※ 監督は、団体出場選手１チームおよび個人出場選手１名につき、１名までとする。
A20: 上記の者は、本大会参加についての保護者の同意を得ているので、参加を申し込みます。また、本大会プログラム作成、成績上位者の報道発表並びにホームページにおける氏名、学校名、学年等の個人情報の記載についての本人及び保護者の同意を得ています。 ※ 記載の同意内容を得られない者は、個人情報の「否」が記入してあります。
A21: =Sheet3!$A$21 -> なお、大会参加料として 0名分、金 0円を支払うこととします。
A22: ※県大会の競技の結果、東海大会の出場資格を得た場合、 | D22: =入力シート!$E$16 -> 0
E23: 令和8年 | F23: =入力シート!$B$5 -> 0
B24: 学校所在地 | C24: =入力シート!B10 -> 0
B25: TEL | C25: =入力シート!B11 -> 0
B26: ふりがな | C26: =入力シート!B13 -> 0
B27: 学校名 | C27: =入力シート!B14 -> 0
B28: 校長氏名 | C28: =入力シート!$B$15 -> 0
A30: 愛知県中小学校体育連盟会長 殿

Sheet コーチ確認(印刷)
F1: 令和8年 | G1: =入力シート!$B$5 -> 0
A2: 愛知県中小学校体育連盟会長 殿
B4: 学校名 | C4: =入力シート!$B$14 -> 0
A5: 印 | B5: 校長氏名 | C5: =入力シート!$B$15 -> 0
B6: 住 所 | C6: =入力シート!$B$10 -> 0
B7: Ｔ Ｅ Ｌ | C7: =入力シート!B11 -> 0
B8: Ｆ Ａ Ｘ | C8: =入力シート!B12 -> 0
A10: コーチ（外部指導者）確認書（校長承認書）
A12: 下記の者を､本校が第80回愛知県中学校総合体育大会出場に際し、コーチ（外部指導者）として承認いたしました。
A14: 競技名 | B14: 体操競技 | F14: =入力シート!$C$3 -> 0 | G14: の部
A15: 学校名 | B15: =入力シート!$B$14 -> 0
A16: コーチ氏名 | B16: =入力シート!$I$17 -> 0 | D16: 選手名 | F16: =IF(入力シート!D3="団体","団体",入力シート!H3) -> 0
A17: 性 別 | B17: =入力シート!$I$18 -> 0 | D17: 年 齢 | F17: =入力シート!$I$19 -> 0 | G17: 歳
A18: 学校との かかわり | B18: 例：地域住民の指導者、〇〇クラブからの派遣指導者 など
B19: =入力シート!$I$20 -> 0
A21: 上記コーチを引率者及び監督として承認しますか。 ※引率に必要な保険に加入すること。 | E21: =入力シート!$I$21 -> 0
A22: ◎引率者及び監督を依頼する場合、当人以外に引率者及び監督ができる校長・教員・部活動指導員・コーチがいないことを確認すること。
A23: ＊同一人による複数校の引率・監督ができないことを本人に確認すること。
A24: ＊申込書に添付すること。
A25: ＊コーチは18歳以上（高校生不可）とする。
A26: ＊団体出場選手１チームおよび個人出場選手１名に、コーチ１名までとする。
A27: ＊提出部数は、２部とする。１部（正）は事務局用とし、１部（副：コピー）を部会用とする。

Sheet Sheet3
A2: 種目 | B2: 支部名 | C2: 男・女 | D2: 団体・個人 | E2: 学年 | F2: 備考 | G2: 個人情報の記載 | H2: 通過順位 | I2: コーチの性別 | J2: 引率者・監督承認 | K2: 東海大会への出場
A3: 体操競技 | B3: 名古屋 | C3: 男子 | D3: 団体 | E3: 1 | F3: 補欠 | G3: すべて承諾する | H3: １位 | I3: 男性 | J3: する | K3: 東海大会に出場します。
A4: 新体操 | B4: 東三河 | C4: 女子 | D4: 個人 | E4: 2 | G4: 条件付きで承諾する | H4: ２位 | I4: 女性 | J4: しない | K4: 東海大会出場を辞退します。
B5: 西三河 | E5: 3 | G5: いずれも承諾しない | H5: ３位
B6: 東尾張（愛日） | H6: ４位
B7: 東尾張（知多） | H7: ５位
B8: 西尾張 | H8: ６位
H9: ７位
H10: ８位
H11: ９位
H12: １０位
A15: なお、大会参加料として | E15: 下記の者を､本校が第77回愛知県中学校総合体育大会
A16: =入力シート!$A$7 -> 0 | E16: =入力シート!$A$3 -> 体操競技
A17: 名分、金 | E17: 出場に際し、コーチ（外部指導者）として承認いたしました。
A18: =入力シート!$A$9 -> 0
A19: 円を支払うこととします。 | E19: =Sheet3!E15&Sheet3!E16&Sheet3!E17 -> 下記の者を､本校が第77回愛知県中学校総合体育大会 体操競技 出場に際し、コーチ（外部指導者）として承認いたしました。
A21: =Sheet3!A15&Sheet3!A16&Sheet3!A17&Sheet3!A18&Sheet3!A19 -> なお、大会参加料として 0名分、金 0円を支払うこととします。

Sheet 参加申込書 (手書き用)
F1: 支部
A3: 第80回 愛知県中学校総合体育大会 参加申込書並びに参加料納入書
A4: 種目 | B4: 体操競技 | D4: 男子 ・ 女子 | E4: の部
B5: 監督氏名( | F5: )
B6: 連絡先( | F6: )
A7: 選手氏名 | C7: ふりがな | D7: 学年 | E7: 備考 | F7: 個人情報の 記載について
A16: ※ 体操競技の団体出場校の補欠選手は、備考欄に「補欠」と記入する。
A17: ※ 監督は、団体出場選手１チームおよび個人出場選手１名につき、１名までとする。
A20: 上記の者は、本大会参加についての保護者の同意を得ているので、参加を申し込みます。また、本大会プログラム作成、成績上位者の報道発表並びにホームページにおける氏名、学校名、学年等の個人情報の記載についての本人及び保護者の同意を得ています。 ※ 記載の同意内容を得られない者は、個人情報の「否」が記入してあります。
A21: なお、大会参加料として 名分、金 円を支払うこととします。
A22: ※県大会の競技の結果、東海大会の出場資格を得た場合、 | D22: 出場します ・ 辞退します。
E23: 令和8年 | F23: 月 日
B24: 学校所在地
B25: TEL
B26: ふりがな
B27: 学校名
B28: 校長氏名
A30: 愛知県中小学校体育連盟会長 殿

Sheet コーチ確認 (手書き用)
F1: 令和8年 月 日
A2: 愛知県中小学校体育連盟会長 殿
B4: 学校名
A5: 印 | B5: 校長氏名
B6: 住 所
B7: Ｔ Ｅ Ｌ
B8: Ｆ Ａ Ｘ
A10: コーチ（外部指導者）確認書（校長承認書）
A12: 下記の者を､本校が第80回愛知県中学校総合体育大会出場に際し、コーチ（外部指導者）として承認いたしました。
A14: 競技名 | B14: 体操競技 | F14: 男子 ・ 女子 | G14: の部
A15: 学校名
A16: コーチ氏名 | D16: 選手名
A17: 性 別 | D17: 年 齢 | G17: 歳
A18: 学校との かかわり | B18: 例：地域住民の指導者、〇〇クラブからの派遣指導者 など
E21: どちらかに○
A22: 上記コーチを引率者及び監督として承認しますか。 ※引率に必要な保険に加入すること。 | E22: する ・ しない
A23: ◎引率者及び監督を依頼する場合、当人以外に引率者及び監督ができる校長・教員・部活動指導員・コーチがいないことを確認すること。
A24: ＊同一人による複数校の引率・監督ができないことを本人に確認すること。
A25: ＊申込書に添付すること。
A26: ＊コーチは18歳以上（高校生不可）とする。
A27: ＊団体出場選手１チームおよび個人出場選手１名に、コーチ１名までとする。
A28: ＊提出部数は、２部とする。１部（正）は事務局用とし、１部（副：コピー）を部会用とする。

Sheet 中体連運動部員確認
A1: ※運動部員確認欄
A2: 学校名 | B2: 監督氏名 | C2: コーチ氏名 | D2: 選手氏名 | E2: ふりがな | F2: 学年 | G2: 備考 | H2: その他
A3: =入力シート!$B$14 -> 0 | B3: =入力シート!$E$3 -> 0 | C3: =入力シート!$I$17 -> 0 | D3: =入力シート!H3 -> 0 | E3: =入力シート!I3 -> 0 | F3: =入力シート!J3 -> 0 | G3: =入力シート!K3 -> 0
D4: =入力シート!H4 -> 0 | E4: =入力シート!I4 -> 0 | F4: =入力シート!J4 -> 0 | G4: =入力シート!K4 -> 0
D5: =入力シート!H5 -> 0 | E5: =入力シート!I5 -> 0 | F5: =入力シート!J5 -> 0 | G5: =入力シート!K5 -> 0
D6: =入力シート!H6 -> 0 | E6: =入力シート!I6 -> 0 | F6: =入力シート!J6 -> 0 | G6: =入力シート!K6 -> 0
D7: =入力シート!H7 -> 0 | E7: =入力シート!I7 -> 0 | F7: =入力シート!J7 -> 0 | G7: =入力シート!K7 -> 0
D8: =入力シート!H8 -> 0 | E8: =入力シート!I8 -> 0 | F8: =入力シート!J8 -> 0 | G8: =入力シート!K8 -> 0
D9: =入力シート!H9 -> 0 | E9: =入力シート!I9 -> 0 | F9: =入力シート!J9 -> 0 | G9: =入力シート!K9 -> 0
D10: =入力シート!H10 -> 0 | E10: =入力シート!I10 -> 0 | F10: =入力シート!J10 -> 0 | G10: =入力シート!K10 -> 0
